BEGIN:VCALENDAR
VERSION:2.0
PRODID:XMas Minis
CALSCALE:GREGORIAN
METHOD:PUBLISH
URL:https://xmasminis.com/
SOURCE:https://xmasminis.com/calendar/
REFRESH-INTERVAL;VALUE=DURATION:P1W
X-PUBLISHED-TTL:P1W
NAME:Lighting Minis
X-WR-CALNAME:Lighting Minis
DESCRIPTION:A list of lighting minis across the globe
X-WR-CALDESC:A list of lighting minis across the globe
BEGIN:VEVENT
SUMMARY:East Coast Christmas Show
UID:{5BC91F64-E592-4673-BFBE-4AF303DD6F13}
SEQUENCE:2
STATUS:CONFIRMED
TRANSP:TRANSPARENT
DTSTART:20260425
DTEND:20260427
DTSTAMP:20100521T162341Z
DESCRIPTION:East Coast Christmas Show\n\nhttps://eastcoastchristmassho
 w.com/
URL:https://eastcoastchristmasshow.com/
END:VEVENT
BEGIN:VEVENT
SUMMARY:Southern California Christmas Light Enthusiasts
UID:{2FB2CC47-3B83-4DB1-856D-E8621957E586}
SEQUENCE:2
STATUS:CONFIRMED
TRANSP:TRANSPARENT
DTSTART:20260509
DTEND:20260510
DTSTAMP:20100521T162341Z
DESCRIPTION:Southern California Christmas Light Enthusiasts\n\nhttps:/
 /www.facebook.com/groups/socalchristmas/\n\nhttps://www.socalholiday.l
 ighting/
URL:https://www.socalholiday.lighting/
END:VEVENT
BEGIN:VEVENT
SUMMARY:Boscoyo Cajun Open House
UID:{0CF44F9F-7D45-42E8-B4D7-6887DD1F5298}
SEQUENCE:2
STATUS:CONFIRMED
TRANSP:TRANSPARENT
DTSTART:20260523
DTEND:20260524
DTSTAMP:20100521T162341Z
DESCRIPTION:Boscoyo Cajun Open House\n\nhttps://events.boscoyostudio.com/
URL:https://events.boscoyostudio.com/
END:VEVENT
BEGIN:VEVENT
SUMMARY:PacNW CLAP
UID:{4DA8B4F5-0F5E-4B2A-A8E5-82659ADBB90E}
SEQUENCE:2
STATUS:CONFIRMED
TRANSP:TRANSPARENT
DTSTART:20260529
DTEND:20260531
DTSTAMP:20100521T162341Z
DESCRIPTION:PacNW CLAP\n\nhttps://www.nwclap.com/
URL:https://www.nwclap.com/
END:VEVENT
BEGIN:VEVENT
SUMMARY:New York Christmas Lighting Mini
UID:{41074E61-C50D-4870-840D-1E4B6C01A0A6}
SEQUENCE:2
STATUS:CONFIRMED
TRANSP:TRANSPARENT
DTSTART:20260530
DTEND:20260531
DTSTAMP:20100521T162341Z
DESCRIPTION:New York Christmas Lighting Mini\n\nhttps://www.facebook.c
 om/groups/1151149619040291/\n\nhttps://www.nychristmasmini.com/
URL:https://www.nychristmasmini.com/
END:VEVENT
BEGIN:VEVENT
SUMMARY:Indiana Christmas Mini
UID:{0BAA2002-416C-4948-9A0B-8296D8BF6344}
SEQUENCE:2
STATUS:CONFIRMED
TRANSP:TRANSPARENT
DTSTART:20260606
DTEND:20260607
DTSTAMP:20100521T162341Z
DESCRIPTION:Indiana Christmas Mini\n\nhttps://www.facebook.com/groups/
 596171597398846/\n\nhttp://indianachristmasmini.com/
URL:http://indianachristmasmini.com/
END:VEVENT
BEGIN:VEVENT
SUMMARY:Wisconsin / Illinois Frozen Mini
UID:{1C301801-6F08-41AB-93CF-71608EA1DEAC}
SEQUENCE:2
STATUS:CONFIRMED
TRANSP:TRANSPARENT
DTSTART:20260606
DTEND:20260608
DTSTAMP:20100521T162341Z
DESCRIPTION:Wisconsin / Illinois Frozen Mini\n\nhttps://www.facebook.c
 om/groups/frozenmini/
URL:https://www.facebook.com/groups/frozenmini/
END:VEVENT
BEGIN:VEVENT
SUMMARY:Ohio Lighting Enthusiasts
UID:{A8CD5B22-B278-442E-AAEF-F3AF7BCD8F59}
SEQUENCE:2
STATUS:CONFIRMED
TRANSP:TRANSPARENT
DTSTART:20260613
DTEND:20260614
DTSTAMP:20100521T162341Z
DESCRIPTION:Ohio Lighting Enthusiasts\n\nhttps://www.facebook.com/grou
 ps/ohiolightingenthusiasts/\n\nhttps://ohiolightingmini.com/
URL:https://ohiolightingmini.com/
END:VEVENT
BEGIN:VEVENT
SUMMARY:Oregon Holiday Lights Mini Meet
UID:{4D6C0C04-B2E0-4A77-A5AD-C8E4E07FAFB9}
SEQUENCE:2
STATUS:CONFIRMED
TRANSP:TRANSPARENT
DTSTART:20260620
DTEND:20260621
DTSTAMP:20100521T162341Z
DESCRIPTION:Oregon Holiday Lights Mini Meet\n\nhttps://www.facebook.co
 m/groups/oregonmini
URL:https://www.facebook.com/groups/oregonmini
END:VEVENT
BEGIN:VEVENT
SUMMARY:North Texas Holiday Light-O-Holics
UID:{686BF392-2710-42C4-95B5-883411CAC511}
SEQUENCE:2
STATUS:CONFIRMED
TRANSP:TRANSPARENT
DTSTART:20260627
DTEND:20260629
DTSTAMP:20100521T162341Z
DESCRIPTION:North Texas Holiday Light-O-Holics\n\nhttps://www.facebook
 .com/groups/NTXHL/\n\nhttps://ntxhlworkshop.com/

URL:https://ntxhlworkshop.com/

END:VEVENT
BEGIN:VEVENT
SUMMARY:Mid-Atlantic Animated Lights Group (MAALG)
UID:{F6BDDA6D-9B1E-4804-9100-49AEBB3AFF9C}
SEQUENCE:2
STATUS:CONFIRMED
TRANSP:TRANSPARENT
DTSTART:20260718
DTEND:20260719
DTSTAMP:20100521T162341Z
DESCRIPTION:Mid-Atlantic Animated Lights Group (MAALG)\n\nhttps://www.
 facebook.com/groups/MidAtlanticAnimatedLightsGroup/
URL:https://www.facebook.com/groups/MidAtlanticAnimatedLightsGroup/
END:VEVENT
BEGIN:VEVENT
SUMMARY:Christmas Expo Workshops
UID:{63A650A6-41C5-40B6-A192-96EAC508EA2E}
SEQUENCE:2
STATUS:CONFIRMED
TRANSP:TRANSPARENT
DTSTART:20260720
DTEND:20260723
DTSTAMP:20100521T162341Z
DESCRIPTION:Christmas Expo Workshops\n\nhttps://www.facebook.com/Chris
 tmasExpo/\n\nhttps://www.christmasexpo.com/
URL:https://www.christmasexpo.com/
END:VEVENT
BEGIN:VEVENT
SUMMARY:Christmas Expo
UID:{195130EB-0881-4545-92AC-35034BD84BA5}
SEQUENCE:2
STATUS:CONFIRMED
TRANSP:TRANSPARENT
DTSTART:20260723
DTEND:20260726
DTSTAMP:20100521T162341Z
DESCRIPTION:Christmas Expo\n\nhttps://www.facebook.com/ChristmasExpo/\
 n\nhttps://www.christmasexpo.com/
URL:https://www.christmasexpo.com/
END:VEVENT
BEGIN:VEVENT
SUMMARY:Carolina Christmas Lighting Enthusiasts
UID:{3FC304CB-10DF-4123-9B0E-1C5CB9559A8A}
SEQUENCE:2
STATUS:CONFIRMED
TRANSP:TRANSPARENT
DTSTART:20260801
DTEND:20260802
DTSTAMP:20100521T162341Z
DESCRIPTION:Carolina Christmas Lighting Enthusiasts\n\nhttps://www.fac
 ebook.com/groups/268765937053643/\n\nhttps://carolinasmini.com/
URL:https://carolinasmini.com/
END:VEVENT
BEGIN:VEVENT
SUMMARY:Rocky Mountain Christmas Displays
UID:{F8E1E746-7526-43FF-9614-9A0DC1EDC535}
SEQUENCE:2
STATUS:CONFIRMED
TRANSP:TRANSPARENT
DTSTART:20260815
DTEND:20260816
DTSTAMP:20100521T162341Z
DESCRIPTION:Rocky Mountain Christmas Displays\n\nhttps://www.facebook.
 com/groups/RockyMountainChristmasDisplays/\n\nhttp://www.utahmini.org/
URL:http://www.utahmini.org/
END:VEVENT
BEGIN:VEVENT
SUMMARY:Eastern Regional Lighting Enthusiasts (ERLE)
UID:{48DDF382-1C13-4FB3-9C93-E690334055F2}
SEQUENCE:2
STATUS:CONFIRMED
TRANSP:TRANSPARENT
DTSTART:20260829
DTEND:20260830
DTSTAMP:20100521T162341Z
DESCRIPTION:Eastern Regional Lighting Enthusiasts (ERLE)\n\nhttps://ww
 w.facebook.com/groups/395496793060220
URL:https://www.facebook.com/groups/395496793060220
END:VEVENT
BEGIN:VEVENT
SUMMARY:Mini at Sea (Cruise)
UID:{6AFD1A12-22F6-42DA-8461-234B209042A1}
SEQUENCE:2
STATUS:CONFIRMED
TRANSP:TRANSPARENT
DTSTART:20270213
DTEND:20270219
DTSTAMP:20100521T162341Z
DESCRIPTION:Mini at Sea (Cruise)\n\nhttps://www.facebook.com/groups/42
 7500412588037\n\nhttps://www.miniatsea.org/
URL:https://www.miniatsea.org/
END:VEVENT
BEGIN:VEVENT
SUMMARY:Transworld
UID:{7480A856-891D-4B19-A120-C435C2A2217E}
SEQUENCE:2
STATUS:CONFIRMED
TRANSP:TRANSPARENT
DTSTART:20270225
DTEND:20270301
DTSTAMP:20100521T162341Z
DESCRIPTION:Transworld\n\nhttps://www.facebook.com/HAAShow/\n\nhttps:/
 /www.haashow.com/
URL:https://www.haashow.com/
END:VEVENT
BEGIN:VEVENT
SUMMARY:Oklahoma Christmas Light Enthusiasts
UID:{30270D1B-5A2B-41FD-8165-5F7FDC146AA7}
SEQUENCE:2
STATUS:CONFIRMED
TRANSP:TRANSPARENT
DTSTART:20270306
DTEND:20270308
DTSTAMP:20100521T162341Z
DESCRIPTION:Oklahoma Christmas Light Enthusiasts\n\nhttps://www.facebo
 ok.com/groups/452586381927900/
URL:https://www.facebook.com/groups/452586381927900/
END:VEVENT
BEGIN:VEVENT
SUMMARY:Florida Mega Mini
UID:{B10DD390-5BAC-4176-A66F-D83E95964217}
SEQUENCE:2
STATUS:CONFIRMED
TRANSP:TRANSPARENT
DTSTART:20270414
DTEND:20270418
DTSTAMP:20100521T162341Z
DESCRIPTION:Florida Mega Mini\n\nhttps://www.facebook.com/floridamegam
 ini/\n\nhttps://www.floridamegamini.com/
URL:https://www.floridamegamini.com/
END:VEVENT
BEGIN:VEVENT
SUMMARY:Oklahoma Christmas Light Enthusiasts
UID:{ED2F47D3-F816-4AE3-A158-E9AAC460200C}
SEQUENCE:2
STATUS:CONFIRMED
TRANSP:TRANSPARENT
DTSTART:20280304
DTEND:20280306
DTSTAMP:20100521T162341Z
DESCRIPTION:Oklahoma Christmas Light Enthusiasts\n\nhttps://www.facebo
 ok.com/groups/452586381927900/
URL:https://www.facebook.com/groups/452586381927900/
END:VEVENT
END:VCALENDAR
